BEGIN:VCALENDAR
VERSION:2.0
PRODID:-//rssny.org//NONSGML kigkonsult.se iCalcreator 2.30.10//
CALSCALE:GREGORIAN
METHOD:PUBLISH
UID:fea40bfe-3bfa-40ff-943c-aa8d7a6d7fed
X-WR-CALDESC:
X-WR-RELCALID:77142fd59bb0783d74437481a75bbad2
X-WR-TIMEZONE:America/New_York
BEGIN:VTIMEZONE
TZID:America/New_York
BEGIN:STANDARD
TZNAME:EST
DTSTART:20251102T020000
TZOFFSETFROM:-0400
TZOFFSETTO:-0500
RDATE:20261101T020000
END:STANDARD
BEGIN:DAYLIGHT
TZNAME:EDT
DTSTART:20260308T020000
TZOFFSETFROM:-0500
TZOFFSETTO:-0400
RDATE:20270314T020000
END:DAYLIGHT
END:VTIMEZONE
BEGIN:VEVENT
UID:45f7f1c1-5656-4d81-bd0e-d1b9e4dccbf9
DTSTAMP:20260421T011827Z
DESCRIPTION:
DTSTART;TZID=America/New_York:20260421T130000
DTEND;TZID=America/New_York:20260421T140000
LOCATION:
SUMMARY:Advisory Council Meeting (In Person - Council members only)
END:VEVENT
END:VCALENDAR
