BEGIN:VCALENDAR
VERSION:2.0
PRODID:-//rssny.org//NONSGML kigkonsult.se iCalcreator 2.30.10//
CALSCALE:GREGORIAN
METHOD:PUBLISH
UID:46c99518-561a-459d-acfb-8d7c24dfa6c4
X-WR-CALDESC:Register Here - https://rssny.org/class-forms/phoenix.html\n
X-WR-RELCALID:be13f4b89bfbef240a87a95ffc81268a
X-WR-TIMEZONE:America/New_York
BEGIN:VTIMEZONE
TZID:America/New_York
BEGIN:STANDARD
TZNAME:EST
DTSTART:20251102T020000
TZOFFSETFROM:-0400
TZOFFSETTO:-0500
RDATE:20261101T020000
END:STANDARD
BEGIN:DAYLIGHT
TZNAME:EDT
DTSTART:20260308T020000
TZOFFSETFROM:-0500
TZOFFSETTO:-0400
RDATE:20270314T020000
END:DAYLIGHT
END:VTIMEZONE
BEGIN:VEVENT
UID:7ef4cf18-9191-4722-9a70-43078de2b116
DTSTAMP:20260421T025034Z
DESCRIPTION:Register Here - https://rssny.org/class-forms/phoenix.html\n
DTSTART;TZID=America/New_York:20260416T141500
DTEND;TZID=America/New_York:20260416T151500
LOCATION:https://rssny.org/class-forms/phoenix.html
SUMMARY:Wyeth's World: Three Generations of American Artists - A Phoenix Mu
 seum Presentation (Online)
END:VEVENT
END:VCALENDAR
