BEGIN:VCALENDAR
VERSION:2.0
PRODID:-//rssny.org//NONSGML kigkonsult.se iCalcreator 2.30.10//
CALSCALE:GREGORIAN
METHOD:PUBLISH
UID:625be410-6861-46ff-b7d8-77a437b97e83
X-WR-CALDESC:Join us for breakfast at the Center!
X-WR-RELCALID:af8653618f36d221f4a2f93952fdec01
X-WR-TIMEZONE:America/New_York
BEGIN:VTIMEZONE
TZID:America/New_York
BEGIN:STANDARD
TZNAME:EST
DTSTART:20251102T020000
TZOFFSETFROM:-0400
TZOFFSETTO:-0500
RDATE:20261101T020000
END:STANDARD
BEGIN:DAYLIGHT
TZNAME:EDT
DTSTART:20260308T020000
TZOFFSETFROM:-0500
TZOFFSETTO:-0400
RDATE:20270314T020000
END:DAYLIGHT
END:VTIMEZONE
BEGIN:VEVENT
UID:408988d3-c724-41b4-9239-12afc2413d4b
DTSTAMP:20260421T042703Z
DESCRIPTION:Join us for breakfast at the Center!
DTSTART;TZID=America/New_York:20260415T090000
DTEND;TZID=America/New_York:20260415T100000
LOCATION:
SUMMARY:Breakfast Club (In Center)
END:VEVENT
END:VCALENDAR
