BEGIN:VCALENDAR
VERSION:2.0
PRODID:-//rssny.org//NONSGML kigkonsult.se iCalcreator 2.30.10//
CALSCALE:GREGORIAN
METHOD:PUBLISH
UID:e570ffb3-a959-459c-8c71-c0d68adc4151
X-WR-CALDESC:Filling in for Donald\, until his return to RSS\, is Social Wo
 rk Intern\, Cynthia Caceres.
X-WR-RELCALID:1a94c35896aaa633b79c134ca0c987a2
X-WR-TIMEZONE:America/New_York
BEGIN:VTIMEZONE
TZID:America/New_York
BEGIN:STANDARD
TZNAME:EST
DTSTART:20251102T020000
TZOFFSETFROM:-0400
TZOFFSETTO:-0500
RDATE:20261101T020000
END:STANDARD
BEGIN:DAYLIGHT
TZNAME:EDT
DTSTART:20260308T020000
TZOFFSETFROM:-0500
TZOFFSETTO:-0400
RDATE:20270314T020000
END:DAYLIGHT
END:VTIMEZONE
BEGIN:VEVENT
UID:9c2e7f3f-10cf-4b7c-99e9-dd9c7e050a0f
DTSTAMP:20260423T151228Z
DESCRIPTION:Filling in for Donald\, until his return to RSS\, is Social Wor
 k Intern\, Cynthia Caceres.
DTSTART;TZID=America/New_York:20260407T100000
DTEND;TZID=America/New_York:20260407T110000
LOCATION:
SUMMARY:Memoir Writing with Donald (In Center)
END:VEVENT
END:VCALENDAR
