BEGIN:VCALENDAR
VERSION:2.0
PRODID:-//rssny.org//NONSGML kigkonsult.se iCalcreator 2.30.10//
CALSCALE:GREGORIAN
METHOD:PUBLISH
UID:b00f4865-d59e-43cb-980f-0dac0dfa74c4
X-WR-CALDESC:Weekly non-competitive bridge game
X-WR-RELCALID:ccff0f5d263049e692422963955c7c71
X-WR-TIMEZONE:America/New_York
BEGIN:VTIMEZONE
TZID:America/New_York
BEGIN:STANDARD
TZNAME:EST
DTSTART:20251102T020000
TZOFFSETFROM:-0400
TZOFFSETTO:-0500
RDATE:20261101T020000
END:STANDARD
BEGIN:DAYLIGHT
TZNAME:EDT
DTSTART:20260308T020000
TZOFFSETFROM:-0500
TZOFFSETTO:-0400
RDATE:20270314T020000
END:DAYLIGHT
END:VTIMEZONE
BEGIN:VEVENT
UID:e72394a0-f935-4443-8438-3e0141698d47
DTSTAMP:20260424T144808Z
DESCRIPTION:Weekly non-competitive bridge game
DTSTART;TZID=America/New_York:20260403T131500
DTEND;TZID=America/New_York:20260403T163000
LOCATION:
SUMMARY:Leisure Games Bridge (In Center)
END:VEVENT
END:VCALENDAR
