BEGIN:VCALENDAR
VERSION:2.0
PRODID:-//rssny.org//NONSGML kigkonsult.se iCalcreator 2.30.10//
CALSCALE:GREGORIAN
METHOD:PUBLISH
UID:a575d876-ab4a-4ce8-8161-5edbf9b5535c
X-WR-CALDESC:Love knitting? Want to learn? Join the RSS knitting group. Reg
 istration not required.
X-WR-RELCALID:7160d6d44d2894444159e6c55022ad6d
X-WR-TIMEZONE:America/New_York
BEGIN:VTIMEZONE
TZID:America/New_York
BEGIN:STANDARD
TZNAME:EST
DTSTART:20251102T020000
TZOFFSETFROM:-0400
TZOFFSETTO:-0500
RDATE:20261101T020000
END:STANDARD
BEGIN:DAYLIGHT
TZNAME:EDT
DTSTART:20260308T020000
TZOFFSETFROM:-0500
TZOFFSETTO:-0400
RDATE:20270314T020000
END:DAYLIGHT
END:VTIMEZONE
BEGIN:VEVENT
UID:b47ee4e9-90e4-4558-ba7b-971d1c251d13
DTSTAMP:20260424T162511Z
DESCRIPTION:Love knitting? Want to learn? Join the RSS knitting group. Regi
 stration not required.
DTSTART;TZID=America/New_York:20260402T100000
DTEND;TZID=America/New_York:20260402T113000
LOCATION:
SUMMARY:IN PERSON: Knitting Group
END:VEVENT
END:VCALENDAR
