BEGIN:VCALENDAR
VERSION:2.0
PRODID:-//rssny.org//NONSGML kigkonsult.se iCalcreator 2.30.10//
CALSCALE:GREGORIAN
METHOD:PUBLISH
UID:23d56842-45e6-48b0-aa79-2e5c92ebb826
X-WR-CALDESC:
X-WR-RELCALID:55bc3da497ffbe4d0c6273ddaa543bfb
X-WR-TIMEZONE:America/New_York
BEGIN:VTIMEZONE
TZID:America/New_York
BEGIN:STANDARD
TZNAME:EST
DTSTART:20251102T020000
TZOFFSETFROM:-0400
TZOFFSETTO:-0500
RDATE:20261101T020000
END:STANDARD
BEGIN:DAYLIGHT
TZNAME:EDT
DTSTART:20260308T020000
TZOFFSETFROM:-0500
TZOFFSETTO:-0400
RDATE:20270314T020000
END:DAYLIGHT
END:VTIMEZONE
BEGIN:VEVENT
UID:707e286e-8512-4b90-922e-d685f0e4b850
DTSTAMP:20260425T030644Z
DESCRIPTION:
DTSTART;TZID=America/New_York:20260326T141500
DTEND;TZID=America/New_York:20260326T151500
LOCATION:
SUMMARY:Bingo
END:VEVENT
END:VCALENDAR
