BEGIN:VCALENDAR
VERSION:2.0
PRODID:-//rssny.org//NONSGML kigkonsult.se iCalcreator 2.30.10//
CALSCALE:GREGORIAN
METHOD:PUBLISH
UID:2e36e7e3-65f0-434f-96dd-d39da6a518a7
X-WR-CALDESC:Join us for breakfast at the Center!
X-WR-RELCALID:5135045c446f744089a8fbac7d8df580
X-WR-TIMEZONE:America/New_York
BEGIN:VTIMEZONE
TZID:America/New_York
BEGIN:STANDARD
TZNAME:EST
DTSTART:20251102T020000
TZOFFSETFROM:-0400
TZOFFSETTO:-0500
RDATE:20261101T020000
END:STANDARD
BEGIN:DAYLIGHT
TZNAME:EDT
DTSTART:20260308T020000
TZOFFSETFROM:-0500
TZOFFSETTO:-0400
RDATE:20270314T020000
END:DAYLIGHT
END:VTIMEZONE
BEGIN:VEVENT
UID:0b892dee-5e55-48e7-8669-50e3253e67a8
DTSTAMP:20260425T124926Z
DESCRIPTION:Join us for breakfast at the Center!
DTSTART;TZID=America/New_York:20260320T090000
DTEND;TZID=America/New_York:20260320T100000
LOCATION:
SUMMARY:Breakfast Club (In Center)
END:VEVENT
END:VCALENDAR
