BEGIN:VCALENDAR
VERSION:2.0
PRODID:-//rssny.org//NONSGML kigkonsult.se iCalcreator 2.30.10//
CALSCALE:GREGORIAN
METHOD:PUBLISH
UID:125a241d-6ab2-4e82-a3c0-819d5e648152
X-WR-CALDESC:Click Here to Register - https://airtable.com/appXGCAC8Qle5hwr
 m/shrO59MUISZyYYJ7D\n
X-WR-RELCALID:ce03b99534377f28a8af1aff62dee456
X-WR-TIMEZONE:America/New_York
BEGIN:VTIMEZONE
TZID:America/New_York
BEGIN:STANDARD
TZNAME:EST
DTSTART:20251102T020000
TZOFFSETFROM:-0400
TZOFFSETTO:-0500
RDATE:20261101T020000
END:STANDARD
BEGIN:DAYLIGHT
TZNAME:EDT
DTSTART:20260308T020000
TZOFFSETFROM:-0500
TZOFFSETTO:-0400
RDATE:20270314T020000
END:DAYLIGHT
END:VTIMEZONE
BEGIN:VEVENT
UID:ce5d6396-335b-4678-bfc4-aaf40fe976c4
DTSTAMP:20260425T142625Z
DESCRIPTION:Click Here to Register - https://airtable.com/appXGCAC8Qle5hwrm
 /shrO59MUISZyYYJ7D\n
DTSTART;TZID=America/New_York:20260319T130000
DTEND;TZID=America/New_York:20260319T140000
LOCATION:https://airtable.com/appXGCAC8Qle5hwrm/shrO59MUISZyYYJ7D
SUMMARY:Concerts in Motion: Coffehouse Thursdays- NOT AN RSS PROGRAM)
END:VEVENT
END:VCALENDAR
