BEGIN:VCALENDAR
VERSION:2.0
PRODID:-//rssny.org//NONSGML kigkonsult.se iCalcreator 2.30.10//
CALSCALE:GREGORIAN
METHOD:PUBLISH
UID:ec3fbd99-d215-4132-a64a-9980efe69089
X-WR-CALDESC:Learn a variety of art techniques\, including painting and col
 oring as well as a wide range of craft projects ranging from “ memory boxe
 s” to holiday card making. What makes her class unique is the supportive\,
  non-judgmental environment that welcomes beginners and challenges experts
 .
X-WR-RELCALID:5a1f6fb628dab4e01c5a1e8e59231e78
X-WR-TIMEZONE:America/New_York
BEGIN:VTIMEZONE
TZID:America/New_York
BEGIN:STANDARD
TZNAME:EST
DTSTART:20261101T020000
TZOFFSETFROM:-0400
TZOFFSETTO:-0500
RDATE:20271107T020000
END:STANDARD
BEGIN:DAYLIGHT
TZNAME:EDT
DTSTART:20260308T020000
TZOFFSETFROM:-0500
TZOFFSETTO:-0400
RDATE:20270314T020000
RDATE:20280312T020000
END:DAYLIGHT
END:VTIMEZONE
BEGIN:VEVENT
UID:9cec6b2f-8635-4584-ad7e-17b2f8d5a2bd
DTSTAMP:20260425T035226Z
DESCRIPTION:Learn a variety of art techniques\, including painting and colo
 ring as well as a wide range of craft projects ranging from “ memory boxes
 ” to holiday card making. What makes her class unique is the supportive\, 
 non-judgmental environment that welcomes beginners and challenges experts.
DTSTART;TZID=America/New_York:20261130T110000
DTEND;TZID=America/New_York:20261130T120000
LOCATION:
SUMMARY:Art with Linda - In Center
END:VEVENT
END:VCALENDAR
