BEGIN:VCALENDAR
VERSION:2.0
PRODID:-//rssny.org//NONSGML kigkonsult.se iCalcreator 2.30.10//
CALSCALE:GREGORIAN
METHOD:PUBLISH
UID:582312ea-7a45-4ee2-a4b6-d8647ec45f73
X-WR-CALDESC:Join chorus and sing with the remarkable soprano Cheryl Warfie
 ld. Listen to her beautiful voice here - https://youtu.be/7stskbP6qa0\n\nY
 ou will get the joy of singing and the opportunity to learn not only from 
 a great singer\, but an accomplished teacher as well.\n\nLearn more about 
 Cheryl by going to her website - https://www.cherylwarfield.nyc/
X-WR-RELCALID:da424f462c5b254818e35628adf3da83
X-WR-TIMEZONE:America/New_York
BEGIN:VTIMEZONE
TZID:America/New_York
BEGIN:STANDARD
TZNAME:EST
DTSTART:20261101T020000
TZOFFSETFROM:-0400
TZOFFSETTO:-0500
RDATE:20271107T020000
END:STANDARD
BEGIN:DAYLIGHT
TZNAME:EDT
DTSTART:20260308T020000
TZOFFSETFROM:-0500
TZOFFSETTO:-0400
RDATE:20270314T020000
RDATE:20280312T020000
END:DAYLIGHT
END:VTIMEZONE
BEGIN:VEVENT
UID:a8fdd299-f432-438e-bbea-b8cc5a6331b3
DTSTAMP:20260425T035115Z
DESCRIPTION:Join chorus and sing with the remarkable soprano Cheryl Warfiel
 d. Listen to her beautiful voice here - https://youtu.be/7stskbP6qa0\n\nYo
 u will get the joy of singing and the opportunity to learn not only from a
  great singer\, but an accomplished teacher as well.\n\nLearn more about C
 heryl by going to her website - https://www.cherylwarfield.nyc/
DTSTART;TZID=America/New_York:20261126T130000
DTEND;TZID=America/New_York:20261126T140000
LOCATION:
SUMMARY:Chorus with Cheryl (IN CENTER)
END:VEVENT
END:VCALENDAR
