BEGIN:VCALENDAR
VERSION:2.0
PRODID:-//rssny.org//NONSGML kigkonsult.se iCalcreator 2.30.10//
CALSCALE:GREGORIAN
METHOD:PUBLISH
UID:5dea7e78-7f51-487f-96dc-313cbed46e91
X-WR-CALDESC:
X-WR-RELCALID:37f9193f4bc616a25b1781cbc117d860
X-WR-TIMEZONE:America/New_York
BEGIN:VTIMEZONE
TZID:America/New_York
BEGIN:STANDARD
TZNAME:EST
DTSTART:20261101T020000
TZOFFSETFROM:-0400
TZOFFSETTO:-0500
RDATE:20271107T020000
END:STANDARD
BEGIN:DAYLIGHT
TZNAME:EDT
DTSTART:20260308T020000
TZOFFSETFROM:-0500
TZOFFSETTO:-0400
RDATE:20270314T020000
RDATE:20280312T020000
END:DAYLIGHT
END:VTIMEZONE
BEGIN:VEVENT
UID:e3149698-3351-4e1a-8137-198c432d9736
DTSTAMP:20260425T035226Z
DESCRIPTION:
DTSTART;TZID=America/New_York:20261125T130000
DTEND;TZID=America/New_York:20261125T150000
LOCATION:
SUMMARY:Movies In Center
END:VEVENT
END:VCALENDAR
