BEGIN:VCALENDAR
VERSION:2.0
PRODID:-//rssny.org//NONSGML kigkonsult.se iCalcreator 2.30.10//
CALSCALE:GREGORIAN
METHOD:PUBLISH
UID:55fce5f2-b9b2-42fc-b1e5-3fee7652583f
X-WR-CALDESC:Join us for breakfast at the Center!
X-WR-RELCALID:1ba065c06155940619c4443b8bf682de
X-WR-TIMEZONE:America/New_York
BEGIN:VTIMEZONE
TZID:America/New_York
BEGIN:STANDARD
TZNAME:EST
DTSTART:20261101T020000
TZOFFSETFROM:-0400
TZOFFSETTO:-0500
RDATE:20271107T020000
END:STANDARD
BEGIN:DAYLIGHT
TZNAME:EDT
DTSTART:20260308T020000
TZOFFSETFROM:-0500
TZOFFSETTO:-0400
RDATE:20270314T020000
RDATE:20280312T020000
END:DAYLIGHT
END:VTIMEZONE
BEGIN:VEVENT
UID:c24f7544-4435-42fc-945e-6a76cde88a9e
DTSTAMP:20260425T035051Z
DESCRIPTION:Join us for breakfast at the Center!
DTSTART;TZID=America/New_York:20261116T090000
DTEND;TZID=America/New_York:20261116T100000
LOCATION:
SUMMARY:Breakfast Club (In Center)
END:VEVENT
END:VCALENDAR
