BEGIN:VCALENDAR
VERSION:2.0
PRODID:-//rssny.org//NONSGML kigkonsult.se iCalcreator 2.30.10//
CALSCALE:GREGORIAN
METHOD:PUBLISH
UID:973aeeb8-e64f-4b8a-90b8-b311952db560
X-WR-CALDESC:Join us for breakfast at the Center!
X-WR-RELCALID:b8eecb2fd0b9670a31400178ae0f6029
X-WR-TIMEZONE:America/New_York
BEGIN:VTIMEZONE
TZID:America/New_York
BEGIN:STANDARD
TZNAME:EST
DTSTART:20251102T020000
TZOFFSETFROM:-0400
TZOFFSETTO:-0500
RDATE:20261101T020000
RDATE:20271107T020000
END:STANDARD
BEGIN:DAYLIGHT
TZNAME:EDT
DTSTART:20260308T020000
TZOFFSETFROM:-0500
TZOFFSETTO:-0400
RDATE:20270314T020000
RDATE:20280312T020000
END:DAYLIGHT
END:VTIMEZONE
BEGIN:VEVENT
UID:50f3af3c-949d-4b50-a796-2f1e1f150ea8
DTSTAMP:20260425T021718Z
DESCRIPTION:Join us for breakfast at the Center!
DTSTART;TZID=America/New_York:20261030T090000
DTEND;TZID=America/New_York:20261030T100000
LOCATION:
SUMMARY:Breakfast Club (In Center)
END:VEVENT
END:VCALENDAR
