BEGIN:VCALENDAR
VERSION:2.0
PRODID:-//rssny.org//NONSGML kigkonsult.se iCalcreator 2.30.10//
CALSCALE:GREGORIAN
METHOD:PUBLISH
UID:7003d9e1-ad78-4e9a-be3c-96b00a8a78e0
X-WR-CALDESC:Love knitting? Want to learn? Join the RSS knitting group. Reg
 istration not required.
X-WR-RELCALID:0dfe5a9f7afe25b64031fdfca9ec6f0b
X-WR-TIMEZONE:America/New_York
BEGIN:VTIMEZONE
TZID:America/New_York
BEGIN:STANDARD
TZNAME:EST
DTSTART:20251102T020000
TZOFFSETFROM:-0400
TZOFFSETTO:-0500
RDATE:20261101T020000
RDATE:20271107T020000
END:STANDARD
BEGIN:DAYLIGHT
TZNAME:EDT
DTSTART:20260308T020000
TZOFFSETFROM:-0500
TZOFFSETTO:-0400
RDATE:20270314T020000
RDATE:20280312T020000
END:DAYLIGHT
END:VTIMEZONE
BEGIN:VEVENT
UID:ad546492-6876-4e66-a80b-e94eb292bd7f
DTSTAMP:20260425T021649Z
DESCRIPTION:Love knitting? Want to learn? Join the RSS knitting group. Regi
 stration not required.
DTSTART;TZID=America/New_York:20261022T100000
DTEND;TZID=America/New_York:20261022T113000
LOCATION:
SUMMARY:IN PERSON: Knitting Group
END:VEVENT
END:VCALENDAR
