BEGIN:VCALENDAR
VERSION:2.0
PRODID:-//rssny.org//NONSGML kigkonsult.se iCalcreator 2.30.10//
CALSCALE:GREGORIAN
METHOD:PUBLISH
UID:71660426-078d-4d6a-9e6c-f018d8249c02
X-WR-CALDESC:Register here - https://rssny.org/reopening-forms/collage.html
 \n\nUse all different kinds of media to create wonderful art pieces. Carol
  Frank is back leading a class in mixed media. Space is limited so please 
 register soon!
X-WR-RELCALID:aeac1d72f83870271585230f36bb83c0
X-WR-TIMEZONE:America/New_York
BEGIN:VTIMEZONE
TZID:America/New_York
BEGIN:STANDARD
TZNAME:EST
DTSTART:20251102T020000
TZOFFSETFROM:-0400
TZOFFSETTO:-0500
RDATE:20261101T020000
RDATE:20271107T020000
END:STANDARD
BEGIN:DAYLIGHT
TZNAME:EDT
DTSTART:20260308T020000
TZOFFSETFROM:-0500
TZOFFSETTO:-0400
RDATE:20270314T020000
RDATE:20280312T020000
END:DAYLIGHT
END:VTIMEZONE
BEGIN:VEVENT
UID:51db908f-4c43-46c4-ac57-9676042e5a3d
DTSTAMP:20260425T021734Z
DESCRIPTION:Register here - https://rssny.org/reopening-forms/collage.html
 \n\nUse all different kinds of media to create wonderful art pieces. Carol
  Frank is back leading a class in mixed media. Space is limited so please 
 register soon!
DTSTART;TZID=America/New_York:20261020T130000
DTEND;TZID=America/New_York:20261020T150000
LOCATION:https://rssny.org/reopening-forms/collage.html
SUMMARY:Collage with Annelen (In-Person)
END:VEVENT
END:VCALENDAR
