BEGIN:VCALENDAR
VERSION:2.0
PRODID:-//rssny.org//NONSGML kigkonsult.se iCalcreator 2.30.10//
CALSCALE:GREGORIAN
METHOD:PUBLISH
UID:56b77dfa-bb00-4048-b5c5-6edd2d02edaa
X-WR-CALDESC:ACBL-accredited duplicate game (participants can earn Masterpo
 ints and the director (me) is ACBL-certified. Any level skill level is wel
 come.\n\nIf you are interested in joining send an email to info@rssny.org 
 or call 718.884.5900
X-WR-RELCALID:6168f289660d27698032a23ca16bfe84
X-WR-TIMEZONE:America/New_York
BEGIN:VTIMEZONE
TZID:America/New_York
BEGIN:STANDARD
TZNAME:EST
DTSTART:20251102T020000
TZOFFSETFROM:-0400
TZOFFSETTO:-0500
RDATE:20261101T020000
RDATE:20271107T020000
END:STANDARD
BEGIN:DAYLIGHT
TZNAME:EDT
DTSTART:20260308T020000
TZOFFSETFROM:-0500
TZOFFSETTO:-0400
RDATE:20270314T020000
RDATE:20280312T020000
END:DAYLIGHT
END:VTIMEZONE
BEGIN:VEVENT
UID:ee2ad5d3-c67f-4f5e-b120-8632b68691ff
DTSTAMP:20260425T021734Z
DESCRIPTION:ACBL-accredited duplicate game (participants can earn Masterpoi
 nts and the director (me) is ACBL-certified. Any level skill level is welc
 ome.\n\nIf you are interested in joining send an email to info@rssny.org o
 r call 718.884.5900
DTSTART;TZID=America/New_York:20261019T124500
DTEND;TZID=America/New_York:20261019T143000
LOCATION:
SUMMARY:On-Site: Duplicate Bridge with Rich (Invitation Only) - In Center
END:VEVENT
END:VCALENDAR
