BEGIN:VCALENDAR
VERSION:2.0
PRODID:-//rssny.org//NONSGML kigkonsult.se iCalcreator 2.30.10//
CALSCALE:GREGORIAN
METHOD:PUBLISH
UID:6fac3d50-2a90-49bf-97b0-1f448539bc95
X-WR-CALDESC:Join us for a fun time and try out tap dancing\n\nNO prior dan
 ce experience or materials are needed.
X-WR-RELCALID:be80b1958f6dff9ee7351806ef517c29
X-WR-TIMEZONE:America/New_York
BEGIN:VTIMEZONE
TZID:America/New_York
BEGIN:STANDARD
TZNAME:EST
DTSTART:20251102T020000
TZOFFSETFROM:-0400
TZOFFSETTO:-0500
RDATE:20261101T020000
RDATE:20271107T020000
END:STANDARD
BEGIN:DAYLIGHT
TZNAME:EDT
DTSTART:20260308T020000
TZOFFSETFROM:-0500
TZOFFSETTO:-0400
RDATE:20270314T020000
RDATE:20280312T020000
END:DAYLIGHT
END:VTIMEZONE
BEGIN:VEVENT
UID:bd5010cf-6646-4d99-9fdd-ef6dce7c280f
DTSTAMP:20260425T021627Z
DESCRIPTION:Join us for a fun time and try out tap dancing\n\nNO prior danc
 e experience or materials are needed.
DTSTART;TZID=America/New_York:20261019T110000
DTEND;TZID=America/New_York:20261019T120000
LOCATION:
SUMMARY:Tap Dancing with Maria (IN CENTER)
END:VEVENT
END:VCALENDAR
