BEGIN:VCALENDAR
VERSION:2.0
PRODID:-//rssny.org//NONSGML kigkonsult.se iCalcreator 2.30.10//
CALSCALE:GREGORIAN
METHOD:PUBLISH
UID:5a0c2cd6-70a9-4ad6-bcbd-a088ccf65b5e
X-WR-CALDESC:
X-WR-RELCALID:4c0dd36de61cbd342762ccfb05699155
X-WR-TIMEZONE:America/New_York
BEGIN:VTIMEZONE
TZID:America/New_York
BEGIN:STANDARD
TZNAME:EST
DTSTART:20251102T020000
TZOFFSETFROM:-0400
TZOFFSETTO:-0500
RDATE:20261101T020000
RDATE:20271107T020000
END:STANDARD
BEGIN:DAYLIGHT
TZNAME:EDT
DTSTART:20260308T020000
TZOFFSETFROM:-0500
TZOFFSETTO:-0400
RDATE:20270314T020000
RDATE:20280312T020000
END:DAYLIGHT
END:VTIMEZONE
BEGIN:VEVENT
UID:814f19b1-a08d-4728-9b80-be33aa505f0c
DTSTAMP:20260425T021734Z
DESCRIPTION:
DTSTART;TZID=America/New_York:20261014T130000
DTEND;TZID=America/New_York:20261014T150000
LOCATION:
SUMMARY:Movies In Center
END:VEVENT
END:VCALENDAR
