BEGIN:VCALENDAR
VERSION:2.0
PRODID:-//rssny.org//NONSGML kigkonsult.se iCalcreator 2.30.10//
CALSCALE:GREGORIAN
METHOD:PUBLISH
UID:55b97659-0454-41df-9050-b5e52bee21f3
X-WR-CALDESC:Join us for breakfast at the Center!
X-WR-RELCALID:9f79b03245e5fc855ae7c9a3fab91771
X-WR-TIMEZONE:America/New_York
BEGIN:VTIMEZONE
TZID:America/New_York
BEGIN:STANDARD
TZNAME:EST
DTSTART:20251102T020000
TZOFFSETFROM:-0400
TZOFFSETTO:-0500
RDATE:20261101T020000
RDATE:20271107T020000
END:STANDARD
BEGIN:DAYLIGHT
TZNAME:EDT
DTSTART:20260308T020000
TZOFFSETFROM:-0500
TZOFFSETTO:-0400
RDATE:20270314T020000
RDATE:20280312T020000
END:DAYLIGHT
END:VTIMEZONE
BEGIN:VEVENT
UID:d0b305f1-0a2e-49b5-8188-433c8ff5c0c4
DTSTAMP:20260425T021647Z
DESCRIPTION:Join us for breakfast at the Center!
DTSTART;TZID=America/New_York:20261009T090000
DTEND;TZID=America/New_York:20261009T100000
LOCATION:
SUMMARY:Breakfast Club (In Center)
END:VEVENT
END:VCALENDAR
