BEGIN:VCALENDAR
VERSION:2.0
PRODID:-//rssny.org//NONSGML kigkonsult.se iCalcreator 2.30.10//
CALSCALE:GREGORIAN
METHOD:PUBLISH
UID:b5705808-086a-4501-a277-f048671290ba
X-WR-CALDESC:Join chorus and sing with the remarkable soprano Cheryl Warfie
 ld. Listen to her beautiful voice here - https://youtu.be/7stskbP6qa0\n\nY
 ou will get the joy of singing and the opportunity to learn not only from 
 a great singer\, but an accomplished teacher as well.\n\nLearn more about 
 Cheryl by going to her website - https://www.cherylwarfield.nyc/
X-WR-RELCALID:0b835c89a9aa8c0a08f920f00e3dc63f
X-WR-TIMEZONE:America/New_York
BEGIN:VTIMEZONE
TZID:America/New_York
BEGIN:STANDARD
TZNAME:EST
DTSTART:20251102T020000
TZOFFSETFROM:-0400
TZOFFSETTO:-0500
RDATE:20261101T020000
RDATE:20271107T020000
END:STANDARD
BEGIN:DAYLIGHT
TZNAME:EDT
DTSTART:20260308T020000
TZOFFSETFROM:-0500
TZOFFSETTO:-0400
RDATE:20270314T020000
RDATE:20280312T020000
END:DAYLIGHT
END:VTIMEZONE
BEGIN:VEVENT
UID:b34a1f05-6b45-4f69-bf3f-070a858d453e
DTSTAMP:20260425T021647Z
DESCRIPTION:Join chorus and sing with the remarkable soprano Cheryl Warfiel
 d. Listen to her beautiful voice here - https://youtu.be/7stskbP6qa0\n\nYo
 u will get the joy of singing and the opportunity to learn not only from a
  great singer\, but an accomplished teacher as well.\n\nLearn more about C
 heryl by going to her website - https://www.cherylwarfield.nyc/
DTSTART;TZID=America/New_York:20261001T130000
DTEND;TZID=America/New_York:20261001T140000
LOCATION:
SUMMARY:Chorus with Cheryl (IN CENTER)
END:VEVENT
END:VCALENDAR
