BEGIN:VCALENDAR
VERSION:2.0
PRODID:-//rssny.org//NONSGML kigkonsult.se iCalcreator 2.30.10//
CALSCALE:GREGORIAN
METHOD:PUBLISH
UID:aa0fb8b0-b5c6-45d5-a3cc-59e85bde3fc1
X-WR-CALDESC:
X-WR-RELCALID:e45d6dfe2e77d3758f7311e7eedf0421
X-WR-TIMEZONE:America/New_York
BEGIN:VTIMEZONE
TZID:America/New_York
BEGIN:STANDARD
TZNAME:EST
DTSTART:20251102T020000
TZOFFSETFROM:-0400
TZOFFSETTO:-0500
RDATE:20261101T020000
RDATE:20271107T020000
END:STANDARD
BEGIN:DAYLIGHT
TZNAME:EDT
DTSTART:20260308T020000
TZOFFSETFROM:-0500
TZOFFSETTO:-0400
RDATE:20270314T020000
RDATE:20280312T020000
END:DAYLIGHT
END:VTIMEZONE
BEGIN:VEVENT
UID:610d77cb-e0a4-4e4f-9884-0c1475d55928
DTSTAMP:20260425T004526Z
DESCRIPTION:
DTSTART;TZID=America/New_York:20260923T130000
DTEND;TZID=America/New_York:20260923T150000
LOCATION:
SUMMARY:Movies In Center
END:VEVENT
END:VCALENDAR
