BEGIN:VCALENDAR
VERSION:2.0
PRODID:-//rssny.org//NONSGML kigkonsult.se iCalcreator 2.30.10//
CALSCALE:GREGORIAN
METHOD:PUBLISH
UID:fa740a0d-1218-4a37-ac10-ce54a5ab4edd
X-WR-CALDESC:Join us for breakfast at the Center!
X-WR-RELCALID:620148ead5e63fe20b58fb3b69a6fbb8
X-WR-TIMEZONE:America/New_York
BEGIN:VTIMEZONE
TZID:America/New_York
BEGIN:STANDARD
TZNAME:EST
DTSTART:20251102T020000
TZOFFSETFROM:-0400
TZOFFSETTO:-0500
RDATE:20261101T020000
RDATE:20271107T020000
END:STANDARD
BEGIN:DAYLIGHT
TZNAME:EDT
DTSTART:20260308T020000
TZOFFSETFROM:-0500
TZOFFSETTO:-0400
RDATE:20270314T020000
END:DAYLIGHT
END:VTIMEZONE
BEGIN:VEVENT
UID:aafd1807-9109-4a90-af7b-9376d11e7e0e
DTSTAMP:20260424T213048Z
DESCRIPTION:Join us for breakfast at the Center!
DTSTART;TZID=America/New_York:20260831T090000
DTEND;TZID=America/New_York:20260831T100000
LOCATION:
SUMMARY:Breakfast Club (In Center)
END:VEVENT
END:VCALENDAR
