BEGIN:VCALENDAR
VERSION:2.0
PRODID:-//rssny.org//NONSGML kigkonsult.se iCalcreator 2.30.10//
CALSCALE:GREGORIAN
METHOD:PUBLISH
UID:93c7b003-95bb-4ecc-8688-b45d74be4407
X-WR-CALDESC:Join us for breakfast at the Center!
X-WR-RELCALID:af80aacc054f662baf7923cde0db9587
X-WR-TIMEZONE:America/New_York
BEGIN:VTIMEZONE
TZID:America/New_York
BEGIN:STANDARD
TZNAME:EST
DTSTART:20251102T020000
TZOFFSETFROM:-0400
TZOFFSETTO:-0500
RDATE:20261101T020000
RDATE:20271107T020000
END:STANDARD
BEGIN:DAYLIGHT
TZNAME:EDT
DTSTART:20260308T020000
TZOFFSETFROM:-0500
TZOFFSETTO:-0400
RDATE:20270314T020000
END:DAYLIGHT
END:VTIMEZONE
BEGIN:VEVENT
UID:ebbadca4-f229-4c8b-ba4f-88c01b92b4ab
DTSTAMP:20260424T213049Z
DESCRIPTION:Join us for breakfast at the Center!
DTSTART;TZID=America/New_York:20260826T090000
DTEND;TZID=America/New_York:20260826T100000
LOCATION:
SUMMARY:Breakfast Club (In Center)
END:VEVENT
END:VCALENDAR
