BEGIN:VCALENDAR
VERSION:2.0
PRODID:-//rssny.org//NONSGML kigkonsult.se iCalcreator 2.30.10//
CALSCALE:GREGORIAN
METHOD:PUBLISH
UID:28a5cf63-0914-46b4-9a59-5fd1dc74250c
X-WR-CALDESC:Join us for breakfast at the Center!
X-WR-RELCALID:c07e3f84cafd79793f0ef7d1b1b74ca5
X-WR-TIMEZONE:America/New_York
BEGIN:VTIMEZONE
TZID:America/New_York
BEGIN:STANDARD
TZNAME:EST
DTSTART:20251102T020000
TZOFFSETFROM:-0400
TZOFFSETTO:-0500
RDATE:20261101T020000
RDATE:20271107T020000
END:STANDARD
BEGIN:DAYLIGHT
TZNAME:EDT
DTSTART:20260308T020000
TZOFFSETFROM:-0500
TZOFFSETTO:-0400
RDATE:20270314T020000
END:DAYLIGHT
END:VTIMEZONE
BEGIN:VEVENT
UID:e1a96ecc-125c-4cae-9c49-419499855206
DTSTAMP:20260424T213155Z
DESCRIPTION:Join us for breakfast at the Center!
DTSTART;TZID=America/New_York:20260814T090000
DTEND;TZID=America/New_York:20260814T100000
LOCATION:
SUMMARY:Breakfast Club (In Center)
END:VEVENT
END:VCALENDAR
