BEGIN:VCALENDAR
VERSION:2.0
PRODID:-//rssny.org//NONSGML kigkonsult.se iCalcreator 2.30.10//
CALSCALE:GREGORIAN
METHOD:PUBLISH
UID:293f4ba5-236d-4f1b-a594-2c54ddd9ba6f
X-WR-CALDESC:Join us for breakfast at the Center!
X-WR-RELCALID:acc0635e595608fe8ec642bc6f465502
X-WR-TIMEZONE:America/New_York
BEGIN:VTIMEZONE
TZID:America/New_York
BEGIN:STANDARD
TZNAME:EST
DTSTART:20251102T020000
TZOFFSETFROM:-0400
TZOFFSETTO:-0500
RDATE:20261101T020000
RDATE:20271107T020000
END:STANDARD
BEGIN:DAYLIGHT
TZNAME:EDT
DTSTART:20260308T020000
TZOFFSETFROM:-0500
TZOFFSETTO:-0400
RDATE:20270314T020000
END:DAYLIGHT
END:VTIMEZONE
BEGIN:VEVENT
UID:5a29ba1a-11ef-4aab-92ab-18d56e3acd8e
DTSTAMP:20260424T213049Z
DESCRIPTION:Join us for breakfast at the Center!
DTSTART;TZID=America/New_York:20260807T090000
DTEND;TZID=America/New_York:20260807T100000
LOCATION:
SUMMARY:Breakfast Club (In Center)
END:VEVENT
END:VCALENDAR
