BEGIN:VCALENDAR
VERSION:2.0
PRODID:-//rssny.org//NONSGML kigkonsult.se iCalcreator 2.30.10//
CALSCALE:GREGORIAN
METHOD:PUBLISH
UID:973b2d77-a1bb-472c-acb9-4d3d26cc1ffd
X-WR-CALDESC:Join us for breakfast at the Center!
X-WR-RELCALID:230e68cf62f9aed5a4a77b4947106183
X-WR-TIMEZONE:America/New_York
BEGIN:VTIMEZONE
TZID:America/New_York
BEGIN:STANDARD
TZNAME:EST
DTSTART:20251102T020000
TZOFFSETFROM:-0400
TZOFFSETTO:-0500
RDATE:20261101T020000
RDATE:20271107T020000
END:STANDARD
BEGIN:DAYLIGHT
TZNAME:EDT
DTSTART:20260308T020000
TZOFFSETFROM:-0500
TZOFFSETTO:-0400
RDATE:20270314T020000
END:DAYLIGHT
END:VTIMEZONE
BEGIN:VEVENT
UID:a8955f4d-8c51-4fd0-95ea-cafbdf24803b
DTSTAMP:20260424T213156Z
DESCRIPTION:Join us for breakfast at the Center!
DTSTART;TZID=America/New_York:20260805T090000
DTEND;TZID=America/New_York:20260805T100000
LOCATION:
SUMMARY:Breakfast Club (In Center)
END:VEVENT
END:VCALENDAR
