BEGIN:VCALENDAR
VERSION:2.0
PRODID:-//rssny.org//NONSGML kigkonsult.se iCalcreator 2.30.10//
CALSCALE:GREGORIAN
METHOD:PUBLISH
UID:7f4ab7de-13b8-44ed-af23-03d5b1d9879a
X-WR-CALDESC:Join us for breakfast at the Center!
X-WR-RELCALID:ca6e90d4f29cc2ba510dc4554fd12cc4
X-WR-TIMEZONE:America/New_York
BEGIN:VTIMEZONE
TZID:America/New_York
BEGIN:STANDARD
TZNAME:EST
DTSTART:20251102T020000
TZOFFSETFROM:-0400
TZOFFSETTO:-0500
RDATE:20261101T020000
RDATE:20271107T020000
END:STANDARD
BEGIN:DAYLIGHT
TZNAME:EDT
DTSTART:20260308T020000
TZOFFSETFROM:-0500
TZOFFSETTO:-0400
RDATE:20270314T020000
END:DAYLIGHT
END:VTIMEZONE
BEGIN:VEVENT
UID:a85ca647-89c7-43e1-8ca3-6bb6520c5f76
DTSTAMP:20260424T213158Z
DESCRIPTION:Join us for breakfast at the Center!
DTSTART;TZID=America/New_York:20260803T090000
DTEND;TZID=America/New_York:20260803T100000
LOCATION:
SUMMARY:Breakfast Club (In Center)
END:VEVENT
END:VCALENDAR
