BEGIN:VCALENDAR
VERSION:2.0
PRODID:-//rssny.org//NONSGML kigkonsult.se iCalcreator 2.30.10//
CALSCALE:GREGORIAN
METHOD:PUBLISH
UID:8b31516e-dd9b-4196-a8fd-1779e98f9f85
X-WR-CALDESC:
X-WR-RELCALID:ee3bbe5f3dfa9231248a87dc4713b88f
X-WR-TIMEZONE:America/New_York
BEGIN:VTIMEZONE
TZID:America/New_York
BEGIN:STANDARD
TZNAME:EST
DTSTART:20251102T020000
TZOFFSETFROM:-0400
TZOFFSETTO:-0500
RDATE:20261101T020000
RDATE:20271107T020000
END:STANDARD
BEGIN:DAYLIGHT
TZNAME:EDT
DTSTART:20260308T020000
TZOFFSETFROM:-0500
TZOFFSETTO:-0400
RDATE:20270314T020000
END:DAYLIGHT
END:VTIMEZONE
BEGIN:VEVENT
UID:41e82a8a-90d6-4772-abce-72a79477ba34
DTSTAMP:20260424T203008Z
DESCRIPTION:
DTSTART;TZID=America/New_York:20260721T130000
DTEND;TZID=America/New_York:20260721T140000
LOCATION:
SUMMARY:Advisory Council Meeting (In Person - Council members only)
END:VEVENT
END:VCALENDAR
