BEGIN:VCALENDAR
VERSION:2.0
PRODID:-//rssny.org//NONSGML kigkonsult.se iCalcreator 2.30.10//
CALSCALE:GREGORIAN
METHOD:PUBLISH
UID:03b66afc-7657-470b-9630-a5d8f16c6afc
X-WR-CALDESC:Join us for breakfast at the Center!
X-WR-RELCALID:c49f8b7fd63793f60d07d01b321f64ba
X-WR-TIMEZONE:America/New_York
BEGIN:VTIMEZONE
TZID:America/New_York
BEGIN:STANDARD
TZNAME:EST
DTSTART:20251102T020000
TZOFFSETFROM:-0400
TZOFFSETTO:-0500
RDATE:20261101T020000
RDATE:20271107T020000
END:STANDARD
BEGIN:DAYLIGHT
TZNAME:EDT
DTSTART:20260308T020000
TZOFFSETFROM:-0500
TZOFFSETTO:-0400
RDATE:20270314T020000
END:DAYLIGHT
END:VTIMEZONE
BEGIN:VEVENT
UID:ec481e8f-b5f8-4d48-b11a-18c638aef744
DTSTAMP:20260424T183123Z
DESCRIPTION:Join us for breakfast at the Center!
DTSTART;TZID=America/New_York:20260720T090000
DTEND;TZID=America/New_York:20260720T100000
LOCATION:
SUMMARY:Breakfast Club (In Center)
END:VEVENT
END:VCALENDAR
