BEGIN:VCALENDAR
VERSION:2.0
PRODID:-//rssny.org//NONSGML kigkonsult.se iCalcreator 2.30.10//
CALSCALE:GREGORIAN
METHOD:PUBLISH
UID:122b2485-c8d0-4210-8bae-9f9bad0c4d0e
X-WR-CALDESC:Join us for breakfast at the Center!
X-WR-RELCALID:a568bc9d22b13491d2d353be095785ed
X-WR-TIMEZONE:America/New_York
BEGIN:VTIMEZONE
TZID:America/New_York
BEGIN:STANDARD
TZNAME:EST
DTSTART:20251102T020000
TZOFFSETFROM:-0400
TZOFFSETTO:-0500
RDATE:20261101T020000
RDATE:20271107T020000
END:STANDARD
BEGIN:DAYLIGHT
TZNAME:EDT
DTSTART:20260308T020000
TZOFFSETFROM:-0500
TZOFFSETTO:-0400
RDATE:20270314T020000
END:DAYLIGHT
END:VTIMEZONE
BEGIN:VEVENT
UID:314a68d9-883e-4f87-b2da-cc1f9cfea9bd
DTSTAMP:20260424T200212Z
DESCRIPTION:Join us for breakfast at the Center!
DTSTART;TZID=America/New_York:20260703T090000
DTEND;TZID=America/New_York:20260703T100000
LOCATION:
SUMMARY:Breakfast Club (In Center)
END:VEVENT
END:VCALENDAR
