BEGIN:VCALENDAR
VERSION:2.0
PRODID:-//rssny.org//NONSGML kigkonsult.se iCalcreator 2.30.10//
CALSCALE:GREGORIAN
METHOD:PUBLISH
UID:192a13cf-00c8-4aee-98d7-ee842eeac650
X-WR-CALDESC:Weekly non-competitive bridge game
X-WR-RELCALID:1506acb28f9b5cd297a8ffb4282733b0
X-WR-TIMEZONE:America/New_York
BEGIN:VTIMEZONE
TZID:America/New_York
BEGIN:STANDARD
TZNAME:EST
DTSTART:20251102T020000
TZOFFSETFROM:-0400
TZOFFSETTO:-0500
RDATE:20261101T020000
RDATE:20271107T020000
END:STANDARD
BEGIN:DAYLIGHT
TZNAME:EDT
DTSTART:20260308T020000
TZOFFSETFROM:-0500
TZOFFSETTO:-0400
RDATE:20270314T020000
END:DAYLIGHT
END:VTIMEZONE
BEGIN:VEVENT
UID:a4080c22-754f-4458-a8b3-b10170d0cd4b
DTSTAMP:20260424T172338Z
DESCRIPTION:Weekly non-competitive bridge game
DTSTART;TZID=America/New_York:20260619T131500
DTEND;TZID=America/New_York:20260619T163000
LOCATION:
SUMMARY:Leisure Games Bridge (In Center)
END:VEVENT
END:VCALENDAR
