BEGIN:VCALENDAR
VERSION:2.0
PRODID:-//rssny.org//NONSGML kigkonsult.se iCalcreator 2.30.10//
CALSCALE:GREGORIAN
METHOD:PUBLISH
UID:3716c9a0-15c1-4a9c-a878-0314898e4da3
X-WR-CALDESC:Call 718.884.5900 if you are interested in joining.
X-WR-RELCALID:19922a65081f80e2f25a3450903b2f2f
X-WR-TIMEZONE:America/New_York
BEGIN:VTIMEZONE
TZID:America/New_York
BEGIN:STANDARD
TZNAME:EST
DTSTART:20251102T020000
TZOFFSETFROM:-0400
TZOFFSETTO:-0500
RDATE:20261101T020000
RDATE:20271107T020000
END:STANDARD
BEGIN:DAYLIGHT
TZNAME:EDT
DTSTART:20260308T020000
TZOFFSETFROM:-0500
TZOFFSETTO:-0400
RDATE:20270314T020000
END:DAYLIGHT
END:VTIMEZONE
BEGIN:VEVENT
UID:e9502677-2fac-47d7-bd41-e94952bd73d4
DTSTAMP:20260424T173636Z
DESCRIPTION:Call 718.884.5900 if you are interested in joining.
DTSTART;TZID=America/New_York:20260615T100000
DTEND;TZID=America/New_York:20260615T110000
LOCATION:
SUMMARY:Leisure Games: Canasta\, Mah Jongg (IN CENTER)
END:VEVENT
END:VCALENDAR
