BEGIN:VCALENDAR
VERSION:2.0
PRODID:-//rssny.org//NONSGML kigkonsult.se iCalcreator 2.30.10//
CALSCALE:GREGORIAN
METHOD:PUBLISH
UID:f41fd288-13bb-4bd9-838e-dce60f9adf41
X-WR-CALDESC:Join us for breakfast at the Center!
X-WR-RELCALID:99943d857cedcf27febba967ce4cb37a
X-WR-TIMEZONE:America/New_York
BEGIN:VTIMEZONE
TZID:America/New_York
BEGIN:STANDARD
TZNAME:EST
DTSTART:20251102T020000
TZOFFSETFROM:-0400
TZOFFSETTO:-0500
RDATE:20261101T020000
RDATE:20271107T020000
END:STANDARD
BEGIN:DAYLIGHT
TZNAME:EDT
DTSTART:20260308T020000
TZOFFSETFROM:-0500
TZOFFSETTO:-0400
RDATE:20270314T020000
END:DAYLIGHT
END:VTIMEZONE
BEGIN:VEVENT
UID:b9b14853-f6e6-4dc8-9756-e57ed487bc88
DTSTAMP:20260424T155853Z
DESCRIPTION:Join us for breakfast at the Center!
DTSTART;TZID=America/New_York:20260615T090000
DTEND;TZID=America/New_York:20260615T100000
LOCATION:
SUMMARY:Breakfast Club (In Center)
END:VEVENT
END:VCALENDAR
