BEGIN:VCALENDAR
VERSION:2.0
PRODID:-//rssny.org//NONSGML kigkonsult.se iCalcreator 2.30.10//
CALSCALE:GREGORIAN
METHOD:PUBLISH
UID:ded7b528-f5d4-42aa-b610-2269759552ca
X-WR-CALDESC:Join us for breakfast at the Center!
X-WR-RELCALID:d2cdc3ec462215ac20a1b25f6f0b4971
X-WR-TIMEZONE:America/New_York
BEGIN:VTIMEZONE
TZID:America/New_York
BEGIN:STANDARD
TZNAME:EST
DTSTART:20251102T020000
TZOFFSETFROM:-0400
TZOFFSETTO:-0500
RDATE:20261101T020000
RDATE:20271107T020000
END:STANDARD
BEGIN:DAYLIGHT
TZNAME:EDT
DTSTART:20260308T020000
TZOFFSETFROM:-0500
TZOFFSETTO:-0400
RDATE:20270314T020000
END:DAYLIGHT
END:VTIMEZONE
BEGIN:VEVENT
UID:630daec9-f9fe-445a-8f57-916417a97cf4
DTSTAMP:20260424T155853Z
DESCRIPTION:Join us for breakfast at the Center!
DTSTART;TZID=America/New_York:20260605T090000
DTEND;TZID=America/New_York:20260605T100000
LOCATION:
SUMMARY:Breakfast Club (In Center)
END:VEVENT
END:VCALENDAR
