BEGIN:VCALENDAR
VERSION:2.0
PRODID:-//rssny.org//NONSGML kigkonsult.se iCalcreator 2.30.10//
CALSCALE:GREGORIAN
METHOD:PUBLISH
UID:958afac3-b4f4-460a-8b10-1588728be604
X-WR-CALDESC:
X-WR-RELCALID:512f619ccddb7f232097ecf3e70229c0
X-WR-TIMEZONE:America/New_York
BEGIN:VTIMEZONE
TZID:America/New_York
BEGIN:STANDARD
TZNAME:EST
DTSTART:20251102T020000
TZOFFSETFROM:-0400
TZOFFSETTO:-0500
RDATE:20261101T020000
RDATE:20271107T020000
END:STANDARD
BEGIN:DAYLIGHT
TZNAME:EDT
DTSTART:20260308T020000
TZOFFSETFROM:-0500
TZOFFSETTO:-0400
RDATE:20270314T020000
END:DAYLIGHT
END:VTIMEZONE
BEGIN:VEVENT
UID:5aeac23b-8aa0-4459-b312-b2457febaedc
DTSTAMP:20260424T155710Z
DESCRIPTION:
DTSTART;TZID=America/New_York:20260520T130000
DTEND;TZID=America/New_York:20260520T150000
LOCATION:
SUMMARY:Movies In Center
END:VEVENT
END:VCALENDAR
