BEGIN:VCALENDAR
VERSION:2.0
PRODID:-//rssny.org//NONSGML kigkonsult.se iCalcreator 2.30.10//
CALSCALE:GREGORIAN
METHOD:PUBLISH
UID:ec19c1c3-eacd-462f-b7f2-f3f65abb14d9
X-WR-CALDESC:Join us for breakfast at the Center!
X-WR-RELCALID:a61efeb7d03591dee1aacee8c5387b27
X-WR-TIMEZONE:America/New_York
BEGIN:VTIMEZONE
TZID:America/New_York
BEGIN:STANDARD
TZNAME:EST
DTSTART:20251102T020000
TZOFFSETFROM:-0400
TZOFFSETTO:-0500
RDATE:20261101T020000
RDATE:20271107T020000
END:STANDARD
BEGIN:DAYLIGHT
TZNAME:EDT
DTSTART:20260308T020000
TZOFFSETFROM:-0500
TZOFFSETTO:-0400
RDATE:20270314T020000
END:DAYLIGHT
END:VTIMEZONE
BEGIN:VEVENT
UID:20ed59d0-6264-42f6-9b28-d34968c8bb8b
DTSTAMP:20260424T153626Z
DESCRIPTION:Join us for breakfast at the Center!
DTSTART;TZID=America/New_York:20260518T090000
DTEND;TZID=America/New_York:20260518T100000
LOCATION:
SUMMARY:Breakfast Club (In Center)
END:VEVENT
END:VCALENDAR
