BEGIN:VCALENDAR
VERSION:2.0
PRODID:-//rssny.org//NONSGML kigkonsult.se iCalcreator 2.30.10//
CALSCALE:GREGORIAN
METHOD:PUBLISH
UID:305b18da-98b3-4ff8-a632-37413da04775
X-WR-CALDESC:Master the Art of Homemade Salad Dressings!\nLove a fresh sala
 d but want to skip the hidden salt and sugar found in store-bought bottles
 ? Join us for an empowering nutrition session where you’ll learn just how 
 easy and inexpensive it is to whip up your own delicious dressings at home
 .\n\nBy making your own\, you take full control of the ingredients—perfect
  for managing sodium\, reducing sugar\, or navigating specific food allerg
 ies. Discover how to create vibrant\, flavor-packed recipes that are as he
 althy as they are tasty!
X-WR-RELCALID:7ad1a7073fb9f366a695310285d17ca8
X-WR-TIMEZONE:America/New_York
BEGIN:VTIMEZONE
TZID:America/New_York
BEGIN:STANDARD
TZNAME:EST
DTSTART:20251102T020000
TZOFFSETFROM:-0400
TZOFFSETTO:-0500
RDATE:20261101T020000
RDATE:20271107T020000
END:STANDARD
BEGIN:DAYLIGHT
TZNAME:EDT
DTSTART:20260308T020000
TZOFFSETFROM:-0500
TZOFFSETTO:-0400
RDATE:20270314T020000
END:DAYLIGHT
END:VTIMEZONE
BEGIN:VEVENT
UID:44265924-2ab3-457e-8f55-ce3ed1b3f68a
DTSTAMP:20260424T183120Z
DESCRIPTION:Master the Art of Homemade Salad Dressings!\nLove a fresh salad
  but want to skip the hidden salt and sugar found in store-bought bottles?
  Join us for an empowering nutrition session where you’ll learn just how e
 asy and inexpensive it is to whip up your own delicious dressings at home.
 \n\nBy making your own\, you take full control of the ingredients—perfect 
 for managing sodium\, reducing sugar\, or navigating specific food allergi
 es. Discover how to create vibrant\, flavor-packed recipes that are as hea
 lthy as they are tasty!
DTSTART;TZID=America/New_York:20260515T131500
DTEND;TZID=America/New_York:20260515T141500
LOCATION:
SUMMARY:Nutrition with Barbara: Homemade Salad Dressings (In House)
END:VEVENT
END:VCALENDAR
