BEGIN:VCALENDAR
VERSION:2.0
PRODID:-//rssny.org//NONSGML kigkonsult.se iCalcreator 2.30.10//
CALSCALE:GREGORIAN
METHOD:PUBLISH
UID:5b81557e-7b4c-458e-8175-176472b9008b
X-WR-CALDESC:Join us for breakfast at the Center!
X-WR-RELCALID:ba89f3d7808e4d3944e82a3f6a445793
X-WR-TIMEZONE:America/New_York
BEGIN:VTIMEZONE
TZID:America/New_York
BEGIN:STANDARD
TZNAME:EST
DTSTART:20251102T020000
TZOFFSETFROM:-0400
TZOFFSETTO:-0500
RDATE:20261101T020000
RDATE:20271107T020000
END:STANDARD
BEGIN:DAYLIGHT
TZNAME:EDT
DTSTART:20260308T020000
TZOFFSETFROM:-0500
TZOFFSETTO:-0400
RDATE:20270314T020000
END:DAYLIGHT
END:VTIMEZONE
BEGIN:VEVENT
UID:1d7e623d-cda4-4c9a-b411-7e1be8dfddcc
DTSTAMP:20260424T140754Z
DESCRIPTION:Join us for breakfast at the Center!
DTSTART;TZID=America/New_York:20260515T090000
DTEND;TZID=America/New_York:20260515T100000
LOCATION:
SUMMARY:Breakfast Club (In Center)
END:VEVENT
END:VCALENDAR
