BEGIN:VCALENDAR
VERSION:2.0
PRODID:-//rssny.org//NONSGML kigkonsult.se iCalcreator 2.30.10//
CALSCALE:GREGORIAN
METHOD:PUBLISH
UID:d33cb10b-16ff-4cec-90f1-be9e9552d663
X-WR-CALDESC:
X-WR-RELCALID:2d8120172a1517d0365a61259d8ba491
X-WR-TIMEZONE:America/New_York
BEGIN:VTIMEZONE
TZID:America/New_York
BEGIN:STANDARD
TZNAME:EST
DTSTART:20251102T020000
TZOFFSETFROM:-0400
TZOFFSETTO:-0500
RDATE:20261101T020000
RDATE:20271107T020000
END:STANDARD
BEGIN:DAYLIGHT
TZNAME:EDT
DTSTART:20260308T020000
TZOFFSETFROM:-0500
TZOFFSETTO:-0400
RDATE:20270314T020000
END:DAYLIGHT
END:VTIMEZONE
BEGIN:VEVENT
UID:40f9516c-816f-4527-999a-1e711d44bc22
DTSTAMP:20260422T202541Z
DESCRIPTION:
DTSTART;TZID=America/New_York:20260512T131500
DTEND;TZID=America/New_York:20260512T141500
LOCATION:
SUMMARY:PLACEHOLDER: Social Security Scams
END:VEVENT
END:VCALENDAR
