BEGIN:VCALENDAR
VERSION:2.0
PRODID:-//rssny.org//NONSGML kigkonsult.se iCalcreator 2.30.10//
CALSCALE:GREGORIAN
METHOD:PUBLISH
UID:4121679d-736b-4f02-a223-b8f8fd936815
X-WR-CALDESC:Weekly non-competitive bridge game
X-WR-RELCALID:d17d2d999c0fdae84233d88d5c940622
X-WR-TIMEZONE:America/New_York
BEGIN:VTIMEZONE
TZID:America/New_York
BEGIN:STANDARD
TZNAME:EST
DTSTART:20251102T020000
TZOFFSETFROM:-0400
TZOFFSETTO:-0500
RDATE:20261101T020000
RDATE:20271107T020000
END:STANDARD
BEGIN:DAYLIGHT
TZNAME:EDT
DTSTART:20260308T020000
TZOFFSETFROM:-0500
TZOFFSETTO:-0400
RDATE:20270314T020000
END:DAYLIGHT
END:VTIMEZONE
BEGIN:VEVENT
UID:0e35698a-bb77-4e10-91dd-8f1e7d70f94e
DTSTAMP:20260424T155527Z
DESCRIPTION:Weekly non-competitive bridge game
DTSTART;TZID=America/New_York:20260508T131500
DTEND;TZID=America/New_York:20260508T163000
LOCATION:
SUMMARY:Leisure Games Bridge (In Center)
END:VEVENT
END:VCALENDAR
