BEGIN:VCALENDAR
VERSION:2.0
PRODID:-//rssny.org//NONSGML kigkonsult.se iCalcreator 2.30.10//
CALSCALE:GREGORIAN
METHOD:PUBLISH
UID:5fd908f0-544c-4108-907d-f4e9720c2d3b
X-WR-CALDESC:Join us for breakfast at the Center!
X-WR-RELCALID:3e91f37ec21868f6973d30525cc430b5
X-WR-TIMEZONE:America/New_York
BEGIN:VTIMEZONE
TZID:America/New_York
BEGIN:STANDARD
TZNAME:EST
DTSTART:20251102T020000
TZOFFSETFROM:-0400
TZOFFSETTO:-0500
RDATE:20261101T020000
RDATE:20271107T020000
END:STANDARD
BEGIN:DAYLIGHT
TZNAME:EDT
DTSTART:20260308T020000
TZOFFSETFROM:-0500
TZOFFSETTO:-0400
RDATE:20270314T020000
END:DAYLIGHT
END:VTIMEZONE
BEGIN:VEVENT
UID:1cd3f502-3ae9-49f9-becc-9e866b189e6e
DTSTAMP:20260424T153539Z
DESCRIPTION:Join us for breakfast at the Center!
DTSTART;TZID=America/New_York:20260508T090000
DTEND;TZID=America/New_York:20260508T100000
LOCATION:
SUMMARY:Breakfast Club (In Center)
END:VEVENT
END:VCALENDAR
