BEGIN:VCALENDAR
VERSION:2.0
PRODID:-//rssny.org//NONSGML kigkonsult.se iCalcreator 2.30.10//
CALSCALE:GREGORIAN
METHOD:PUBLISH
UID:0a2785e9-2407-4280-ae50-78c25a8aec14
X-WR-CALDESC:We invite you to connect with graduating seniors and share the
  lessons you've learned throughout your life. Your experiences\, both big 
 and small\, can offer guidance and inspiration as they prepare for the exc
 iting adventures ahead.\n\nTo register: info@rssny.org or call 718-884-590
 0 ext. 130
X-WR-RELCALID:c8ad92e552a916b0c814524085283937
X-WR-TIMEZONE:America/New_York
BEGIN:VTIMEZONE
TZID:America/New_York
BEGIN:STANDARD
TZNAME:EST
DTSTART:20251102T020000
TZOFFSETFROM:-0400
TZOFFSETTO:-0500
RDATE:20261101T020000
END:STANDARD
BEGIN:DAYLIGHT
TZNAME:EDT
DTSTART:20260308T020000
TZOFFSETFROM:-0500
TZOFFSETTO:-0400
RDATE:20270314T020000
END:DAYLIGHT
END:VTIMEZONE
BEGIN:VEVENT
UID:b88b33b2-3090-4144-a9fe-1761961ad4db
DTSTAMP:20260424T183120Z
DESCRIPTION:We invite you to connect with graduating seniors and share the 
 lessons you've learned throughout your life. Your experiences\, both big a
 nd small\, can offer guidance and inspiration as they prepare for the exci
 ting adventures ahead.\n\nTo register: info@rssny.org or call 718-884-5900
  ext. 130
DTSTART;TZID=America/New_York:20260507T102000
DTEND;TZID=America/New_York:20260507T120000
LOCATION:
SUMMARY:Bridging Generations:  Share Your Journey with Graduating Seniors -
  Horace Mann 12th Gr. Service Learning Day (In Center)
END:VEVENT
END:VCALENDAR
