BEGIN:VCALENDAR
VERSION:2.0
PRODID:-//rssny.org//NONSGML kigkonsult.se iCalcreator 2.30.10//
CALSCALE:GREGORIAN
METHOD:PUBLISH
UID:87d4a6c8-7e35-41e1-966d-5c79d2e6d8b8
X-WR-CALDESC:Join the Pastel Drawing Class for an exhibit to view the amazi
 ng work of these talented artists. Presentation followed by a small recept
 ion.
X-WR-RELCALID:2f504b45119bfd34ed429b3fd74db3b9
X-WR-TIMEZONE:America/New_York
BEGIN:VTIMEZONE
TZID:America/New_York
BEGIN:STANDARD
TZNAME:EST
DTSTART:20251102T020000
TZOFFSETFROM:-0400
TZOFFSETTO:-0500
RDATE:20261101T020000
END:STANDARD
BEGIN:DAYLIGHT
TZNAME:EDT
DTSTART:20260308T020000
TZOFFSETFROM:-0500
TZOFFSETTO:-0400
RDATE:20270314T020000
END:DAYLIGHT
END:VTIMEZONE
BEGIN:VEVENT
UID:c740b1cc-ef1b-4e0a-8a03-73549b6c927c
DTSTAMP:20260424T154521Z
DESCRIPTION:Join the Pastel Drawing Class for an exhibit to view the amazin
 g work of these talented artists. Presentation followed by a small recepti
 on.
DTSTART;TZID=America/New_York:20260506T131500
DTEND;TZID=America/New_York:20260506T150000
LOCATION:
SUMMARY:Daniel Hauben Exhibition (In Person)
END:VEVENT
END:VCALENDAR
