BEGIN:VCALENDAR
VERSION:2.0
PRODID:-//rssny.org//NONSGML kigkonsult.se iCalcreator 2.30.10//
CALSCALE:GREGORIAN
METHOD:PUBLISH
UID:21754e49-149c-483a-b942-143318d0e422
X-WR-CALDESC:Join us for breakfast at the Center!
X-WR-RELCALID:b846e2d744807c06943ceb16742295d4
X-WR-TIMEZONE:America/New_York
BEGIN:VTIMEZONE
TZID:America/New_York
BEGIN:STANDARD
TZNAME:EST
DTSTART:20251102T020000
TZOFFSETFROM:-0400
TZOFFSETTO:-0500
RDATE:20261101T020000
END:STANDARD
BEGIN:DAYLIGHT
TZNAME:EDT
DTSTART:20260308T020000
TZOFFSETFROM:-0500
TZOFFSETTO:-0400
RDATE:20270314T020000
END:DAYLIGHT
END:VTIMEZONE
BEGIN:VEVENT
UID:ab35d639-7ed5-4265-b154-d951cec679ad
DTSTAMP:20260424T140645Z
DESCRIPTION:Join us for breakfast at the Center!
DTSTART;TZID=America/New_York:20260501T090000
DTEND;TZID=America/New_York:20260501T100000
LOCATION:
SUMMARY:Breakfast Club (In Center)
END:VEVENT
END:VCALENDAR
