BEGIN:VCALENDAR
VERSION:2.0
PRODID:-//rssny.org//NONSGML kigkonsult.se iCalcreator 2.30.10//
CALSCALE:GREGORIAN
METHOD:PUBLISH
UID:a214fab6-6860-4e40-a629-ed7589549a74
X-WR-CALDESC:Weekly non-competitive bridge game
X-WR-RELCALID:7834349527ffff1193148417ede00f60
X-WR-TIMEZONE:America/New_York
BEGIN:VTIMEZONE
TZID:America/New_York
BEGIN:STANDARD
TZNAME:EST
DTSTART:20251102T020000
TZOFFSETFROM:-0400
TZOFFSETTO:-0500
RDATE:20261101T020000
END:STANDARD
BEGIN:DAYLIGHT
TZNAME:EDT
DTSTART:20260308T020000
TZOFFSETFROM:-0500
TZOFFSETTO:-0400
RDATE:20270314T020000
END:DAYLIGHT
END:VTIMEZONE
BEGIN:VEVENT
UID:0916852e-a8cb-4be7-b4e3-2fda88466b30
DTSTAMP:20260424T123816Z
DESCRIPTION:Weekly non-competitive bridge game
DTSTART;TZID=America/New_York:20260424T131500
DTEND;TZID=America/New_York:20260424T163000
LOCATION:
SUMMARY:Leisure Games Bridge (In Center)
END:VEVENT
END:VCALENDAR
