BEGIN:VCALENDAR
VERSION:2.0
PRODID:-//rssny.org//NONSGML kigkonsult.se iCalcreator 2.30.10//
CALSCALE:GREGORIAN
METHOD:PUBLISH
UID:128a7238-e537-4e09-ac6b-360ce7f24ac5
X-WR-CALDESC:
X-WR-RELCALID:54dab31ba50f3cd9611656521c72d0fc
X-WR-TIMEZONE:America/New_York
BEGIN:VTIMEZONE
TZID:America/New_York
BEGIN:STANDARD
TZNAME:EST
DTSTART:20251102T020000
TZOFFSETFROM:-0400
TZOFFSETTO:-0500
RDATE:20261101T020000
END:STANDARD
BEGIN:DAYLIGHT
TZNAME:EDT
DTSTART:20260308T020000
TZOFFSETFROM:-0500
TZOFFSETTO:-0400
RDATE:20270314T020000
END:DAYLIGHT
END:VTIMEZONE
BEGIN:VEVENT
UID:e3af4918-7f68-41a7-9165-5b743134f007
DTSTAMP:20260424T123638Z
DESCRIPTION:
DTSTART;TZID=America/New_York:20260415T140000
DTEND;TZID=America/New_York:20260415T153000
LOCATION:
SUMMARY:Movie: Chocolat
END:VEVENT
END:VCALENDAR
