BEGIN:VCALENDAR
VERSION:2.0
PRODID:-//rssny.org//NONSGML kigkonsult.se iCalcreator 2.30.10//
CALSCALE:GREGORIAN
METHOD:PUBLISH
UID:ca246a60-2c4a-49a3-94c0-0612db69be2c
X-WR-CALDESC:Call 718.884.5900 if you are interested in joining.
X-WR-RELCALID:226db7947d57a38f2828a15fe412249d
X-WR-TIMEZONE:America/New_York
BEGIN:VTIMEZONE
TZID:America/New_York
BEGIN:STANDARD
TZNAME:EST
DTSTART:20251102T020000
TZOFFSETFROM:-0400
TZOFFSETTO:-0500
RDATE:20261101T020000
END:STANDARD
BEGIN:DAYLIGHT
TZNAME:EDT
DTSTART:20260308T020000
TZOFFSETFROM:-0500
TZOFFSETTO:-0400
RDATE:20270314T020000
END:DAYLIGHT
END:VTIMEZONE
BEGIN:VEVENT
UID:5b58900c-5575-4a27-8bfb-0539b592ba8d
DTSTAMP:20260424T124628Z
DESCRIPTION:Call 718.884.5900 if you are interested in joining.
DTSTART;TZID=America/New_York:20260413T100000
DTEND;TZID=America/New_York:20260413T110000
LOCATION:
SUMMARY:Leisure Games: Canasta\, Mah Jongg (IN CENTER)
END:VEVENT
END:VCALENDAR
