BEGIN:VCALENDAR
VERSION:2.0
PRODID:-//rssny.org//NONSGML kigkonsult.se iCalcreator 2.30.10//
CALSCALE:GREGORIAN
METHOD:PUBLISH
UID:67411e95-d283-4afb-96f8-00ebb31bcd98
X-WR-CALDESC:Join us for breakfast at the Center!
X-WR-RELCALID:91f7beceae97b3b15f5744d95a49e225
X-WR-TIMEZONE:America/New_York
BEGIN:VTIMEZONE
TZID:America/New_York
BEGIN:STANDARD
TZNAME:EST
DTSTART:20251102T020000
TZOFFSETFROM:-0400
TZOFFSETTO:-0500
RDATE:20261101T020000
END:STANDARD
BEGIN:DAYLIGHT
TZNAME:EDT
DTSTART:20260308T020000
TZOFFSETFROM:-0500
TZOFFSETTO:-0400
RDATE:20270314T020000
END:DAYLIGHT
END:VTIMEZONE
BEGIN:VEVENT
UID:c6782bf8-8efa-4287-aa47-c1692a51395d
DTSTAMP:20260424T123327Z
DESCRIPTION:Join us for breakfast at the Center!
DTSTART;TZID=America/New_York:20260410T090000
DTEND;TZID=America/New_York:20260410T100000
LOCATION:
SUMMARY:Breakfast Club (In Center)
END:VEVENT
END:VCALENDAR
