BEGIN:VCALENDAR
VERSION:2.0
PRODID:-//rssny.org//NONSGML kigkonsult.se iCalcreator 2.30.10//
CALSCALE:GREGORIAN
METHOD:PUBLISH
UID:80012a6b-d6c8-4ed5-9318-9725bb7f6b6b
X-WR-CALDESC:REGISTER Here - https://rssny.org/class-forms/qi-gong-with-bru
 ce.html\n\n.
X-WR-RELCALID:22b31d54de9c84a8a772f9a9aaa0c1f7
X-WR-TIMEZONE:America/New_York
BEGIN:VTIMEZONE
TZID:America/New_York
BEGIN:STANDARD
TZNAME:EST
DTSTART:20251102T020000
TZOFFSETFROM:-0400
TZOFFSETTO:-0500
RDATE:20261101T020000
END:STANDARD
BEGIN:DAYLIGHT
TZNAME:EDT
DTSTART:20260308T020000
TZOFFSETFROM:-0500
TZOFFSETTO:-0400
RDATE:20270314T020000
END:DAYLIGHT
END:VTIMEZONE
BEGIN:VEVENT
UID:629342a7-4ffd-49e8-af6e-f3e8b13b9eb7
DTSTAMP:20260424T123935Z
DESCRIPTION:REGISTER Here - https://rssny.org/class-forms/qi-gong-with-bruc
 e.html\n\n.
DTSTART;TZID=America/New_York:20260407T100000
DTEND;TZID=America/New_York:20260407T110000
LOCATION:https://rssny.org/class-forms/qi-gong-with-bruce.html
SUMMARY:Qi Gong with Bruce (HYBRID) - Instructor In Center
END:VEVENT
END:VCALENDAR
